BEGIN:VCALENDAR
VERSION:2.0
PRODID:Centre de Formació i Innovació en Simulació - CFIS
BEGIN:VEVENT
UID:69ebb98c8e0f5
DTSTART:20251009T060000Z
SEQUENCE:0
TRANSP:OPAQUE
DTEND:20251009T120000Z
URL:http://www.cfis.urv.cat/ca/agenda/11488/curs-svb-dea-alumnes-d-enginyer
 ia-biomedica-urv
LOCATION:Hospital Universitari Sant Joan de Reus - CFIS
SUMMARY:Curs SVB + DEA Alumnes d'Enginyeria Biomèdica URV
CLASS:PUBLIC
DESCRIPTION:El CFIS continua impulsant la formació pràctica dels estudian
 ts d&#39\;Enginyeria Biomèdica amb sessions de Reanimació Cardiopulmonar
  (RCP).\n\nAquesta activitat permet als alumnes aprendre les tècniques b
 àsiques per respondre davant d&#39\;una aturada cardiorespiratòria i\, a
 lhora\, sensibilitzar-se sobre la importància d&#39\;actuar amb rapidesa 
 i eficàcia en situacions d&#39\;emergència.\n\nAmb iniciatives com aques
 ta\, el CFIS reafirma el seu compromís amb una formació integral\, innov
 adora i de qualitat\, contribuint a preparar professionals més competents
  i a salvar vides.
DTSTAMP:20260424T184220Z
END:VEVENT
END:VCALENDAR